BEGIN:VCALENDAR
VERSION:2.0
PRODID:-//VOA Pennsylvania - ECPv6.15.20//NONSGML v1.0//EN
CALSCALE:GREGORIAN
METHOD:PUBLISH
X-ORIGINAL-URL:https://www.voapa.org
X-WR-CALDESC:Events for VOA Pennsylvania
REFRESH-INTERVAL;VALUE=DURATION:PT1H
X-Robots-Tag:noindex
X-PUBLISHED-TTL:PT1H
BEGIN:VTIMEZONE
TZID:UTC
BEGIN:STANDARD
TZOFFSETFROM:+0000
TZOFFSETTO:+0000
TZNAME:UTC
DTSTART:20230101T000000
END:STANDARD
END:VTIMEZONE
BEGIN:VEVENT
DTSTART;TZID=UTC:20241024T090000
DTEND;TZID=UTC:20241024T094500
DTSTAMP:20260423T150420
CREATED:20241011T193339Z
LAST-MODIFIED:20241011T193755Z
UID:10001436-1729760400-1729763100@www.voapa.org
SUMMARY:Maternal Yoga
DESCRIPTION:via Zoom
URL:https://www.voapa.org/event/maternal-yoga/
CATEGORIES:Events
END:VEVENT
END:VCALENDAR