BEGIN:VCALENDAR
VERSION:2.0
PRODID:-//VOA Pennsylvania - ECPv6.15.20//NONSGML v1.0//EN
CALSCALE:GREGORIAN
METHOD:PUBLISH
X-ORIGINAL-URL:https://www.voapa.org
X-WR-CALDESC:Events for VOA Pennsylvania
REFRESH-INTERVAL;VALUE=DURATION:PT1H
X-Robots-Tag:noindex
X-PUBLISHED-TTL:PT1H
BEGIN:VTIMEZONE
TZID:UTC
BEGIN:STANDARD
TZOFFSETFROM:+0000
TZOFFSETTO:+0000
TZNAME:UTC
DTSTART:20230101T000000
END:STANDARD
END:VTIMEZONE
BEGIN:VEVENT
DTSTART;TZID=UTC:20241025T140000
DTEND;TZID=UTC:20241025T160000
DTSTAMP:20260423T150456
CREATED:20241011T193953Z
LAST-MODIFIED:20241011T193953Z
UID:10001438-1729864800-1729872000@www.voapa.org
SUMMARY:Mommy’s Club and a Coffee-Halloween Version (Open to the Public)
DESCRIPTION:Dress in your best costume! We will choose the best mommy & baby costume!
URL:https://www.voapa.org/event/mommys-club-and-a-coffee-halloween-version-open-to-the-public/
LOCATION:Lehigh Valley Regional Office\, The Children’s Center\, 703 W. Union St.\, Allentown\, PA\, 18101\, United States
CATEGORIES:Events
END:VEVENT
END:VCALENDAR