BEGIN:VCALENDAR
VERSION:2.0
PRODID:-//VOA Pennsylvania - ECPv6.15.20//NONSGML v1.0//EN
CALSCALE:GREGORIAN
METHOD:PUBLISH
X-ORIGINAL-URL:https://www.voapa.org
X-WR-CALDESC:Events for VOA Pennsylvania
REFRESH-INTERVAL;VALUE=DURATION:PT1H
X-Robots-Tag:noindex
X-PUBLISHED-TTL:PT1H
BEGIN:VTIMEZONE
TZID:UTC
BEGIN:STANDARD
TZOFFSETFROM:+0000
TZOFFSETTO:+0000
TZNAME:UTC
DTSTART:20240101T000000
END:STANDARD
END:VTIMEZONE
BEGIN:VEVENT
DTSTART;TZID=UTC:20250613T120000
DTEND;TZID=UTC:20250613T140000
DTSTAMP:20260423T213951
CREATED:20250321T203201Z
LAST-MODIFIED:20250530T171108Z
UID:10001444-1749816000-1749823200@www.voapa.org
SUMMARY:Ruth's Place 17th Annual Walk for Hope
DESCRIPTION:VOAPA is hosting the 17th Annual Walk for Hope\, our largest fundraising event to support Ruth’s Place\, the only 24/7 emergency shelter serving women in Luzerne County! \nThis year\, the festivities will take place on Friday\, June 13\, 2025 at 12pm on Public Square in Wilkes-Barre. During the Walk for Hope\, each participant walks a familiar route of those women who are experiencing homelessness in our community and empathizes with the challenges they face when seeking help and regaining housing\, independence\, and hope. \nClick here to register\nClick here sponsor and/or donate!\nHave a Fundraising Team? Click here to start/join a fundraising team!
URL:https://www.voapa.org/event/ruths-place-17th-annual-walk-for-hope/
LOCATION:Public Square\, Wilkes-Barre\, Wilkes-Barre\, PA\, 18701\, United States
CATEGORIES:Events
END:VEVENT
BEGIN:VEVENT
DTSTART;TZID=UTC:20260217T180000
DTEND;TZID=UTC:20260217T210000
DTSTAMP:20260423T213951
CREATED:20260112T192841Z
LAST-MODIFIED:20260202T201646Z
UID:10001445-1771351200-1771362000@www.voapa.org
SUMMARY:Spring Into Hope
DESCRIPTION:Join us on Mardi Gras for our 3rd Annual Spring Into Hope Fundraiser!* Ticket revenue will go toward supporting our Give Hope Outreach Team and those experiencing homelessness in Northeast PA. \nPurchase a ticket or become a sponsor \n*Drink responsibly or have a designated driver.
URL:https://www.voapa.org/event/spring-into-hope-2/
LOCATION:Sabatini’s Bottle Shop & Bar\, 1901 Wyoming Ave.\, Exeter\, PA\, 18643\, United States
CATEGORIES:Events
END:VEVENT
BEGIN:VEVENT
DTSTART;TZID=UTC:20260919T130000
DTEND;TZID=UTC:20260919T160000
DTSTAMP:20260423T213951
CREATED:20260421T164443Z
LAST-MODIFIED:20260421T165432Z
UID:10001446-1789822800-1789833600@www.voapa.org
SUMMARY:Ruth's Place 18th Annual Walk for Hope
DESCRIPTION:  \nRuth’s Place is excited to announce our 18th annual Walk for Hope is happening Saturday\, September 19th. Ruth’s Place is the only emergency homeless shelter dedicated to women experiencing homelessness in Luzerne County\, providing 24-hour lodging and services 7 days a week. \n  \nHow to Help:\nDonate to Walk for Hope 2026        |        Purchase a Sponsorship \n 
URL:https://www.voapa.org/event/ruths-place-18th-annual-walk-for-hope/
LOCATION:PA
CATEGORIES:Events
END:VEVENT
END:VCALENDAR